BEGIN:VCALENDAR
VERSION:2.0
PRODID:-//CiviCRM//NONSGML CiviEvent iCal//EN
X-WR-TIMEZONE:Europe/London
METHOD:PUBLISH
BEGIN:VTIMEZONE
TZID:Europe/London
BEGIN:DAYLIGHT
TZOFFSETFROM:+0100
TZOFFSETTO:+0100
TZNAME:BST
DTSTART:20260506T140000
END:DAYLIGHT
END:VTIMEZONE
BEGIN:VEVENT
UID:CiviCRM_EventID_1674_0d2c4aa9275ca368917b23885c72a838@www.onewestminster.org.uk
SUMMARY:Creative health and Inclusion: micro grants inform
 ation session
X-ALT-DESC;FMTTYPE=text/html:<!DOCTYPE HTML PUBLIC
  "-//W3C//DTD HTML 3.2//EN"><html><body><p><span s
 tyle="font-size:12pt\;"><span style="background:#F
 FFFFF\;"><span style="font-family:Aptos\, sans-ser
 if\;"><b><span style="color:#000000\;">Westminster
  Culture Network Event</span></b></span></span></s
 pan></p>\n \n <p class="elementtoproof"><span styl
 e="font-size:12pt\;"><span style="background:#FFFF
 FF\;"><span style="font-family:Aptos\, sans-serif\
 ;"><b><span style="color:#000000\;">Creative healt
 h & Inclusion: micro-grants information session</s
 pan></b></span></span></span></p>\n \n <p class="e
 lementtoproof"><span style="font-size:12pt\;"><spa
 n style="background:#FFFFFF\;"><span style="font-f
 amily:Aptos\, sans-serif\;"><b><span style="color:
 #000000\;">2-4 pm\, 6 May</span></b></span></span>
 </span></p>\n \n <p class="elementtoproof"><span s
 tyle="font-size:12pt\;"><span style="background:#F
 FFFFF\;"><span style="font-family:Aptos\, sans-ser
 if\;"><b><span style="color:#000000\;">Soho Poly\,
  </span></b><span style="color:#000000\;"><b>16 Ri
 ding House St\, London W1W 7DT</b></span></span></
 span></span></p>\n \n <p class="elementtoproof"><s
 pan style="font-size:12pt\;"><span style="backgrou
 nd:#FFFFFF\;"><span style="font-family:Aptos\, san
 s-serif\;"> </span></span></span></p>\n \n <p clas
 s="elementtoproof"><span style="font-size:12pt\;">
 <span style="background:#FFFFFF\;"><span style="fo
 nt-family:Aptos\, sans-serif\;"><span style="color
 :#000000\;">Please come along to meet peers in the
  health and creative sectors to find out more how 
 arts and creativity can address the social determi
 nants of health. The event will take place at Soho
  Poly\, an inclusive community theatre\, based at 
 University of Westminster.</span></span></span></s
 pan></p>\n \n <p class="elementtoproof"><span styl
 e="font-size:12pt\;"><span style="background:#FFFF
 FF\;"><span style="font-family:Aptos\, sans-serif\
 ;"> </span></span></span></p>\n \n <p class="eleme
 nttoproof"><span style="font-size:12pt\;"><span st
 yle="background:#FFFFFF\;"><span style="font-famil
 y:Aptos\, sans-serif\;"><span style="color:#000000
 \;">The event will be facilitated by Shelley Reyno
 lds\, Head of Health and Organisational Developmen
 t at One Westminster\, in partnership with Westmin
 ster Culture Network.</span></span></span></span><
 /p>\n \n <p> </p>\n \n <p><span style="font-size:1
 2pt\;"><span style="background:#FFFFFF\;"><span st
 yle="font-family:Aptos\, sans-serif\;"><span style
 ="color:#000000\;">We will be sharing details on h
 ow to apply for One Westminster’s new round of Cre
 ative Health micro-grants\, funded by Westminster 
 Council as part of its <a href="http://www.westmin
 ster.gov.uk/cultural-strategy" rel="noreferrer noo
 pener" style="color:#0000FF\;text-decoration:under
 line\;" target="_blank" title="http://www.westmins
 ter.gov.uk/cultural-strategy">Cultural Strategy</a
 > delivery.</span></span></span></span></p>\n \n <
 p class="elementtoproof"><span style="font-size:12
 pt\;"><span style="background:#FFFFFF\;"><span sty
 le="font-family:Aptos\, sans-serif\;"> </span></sp
 an></span></p>\n \n <p class="elementtoproof"><spa
 n style="font-size:12pt\;"><span style="background
 :#FFFFFF\;"><span style="font-family:Aptos\, sans-
 serif\;"><span style="color:#000000\;">Agenda</spa
 n></span></span></span></p>\n \n <ul>\n 	<li style
 ="margin-left:8px\;"><span style="font-size:12pt\;
 "><span style="background:#FFFFFF\;"><span><span s
 tyle="font-family:Aptos\, sans-serif\;"><span styl
 e="color:#000000\;">Welcome and introductions</spa
 n></span></span></span></span></li>\n </ul>\n \n <
 ul>\n 	<li style="margin-left:8px\;"><span style="
 font-size:12pt\;"><span style="background:#FFFFFF\
 ;"><span><span style="font-family:Aptos\, sans-ser
 if\;"><span style="color:#000000\;">Context: Creat
 ive wellbeing and social determinants of health (<
 /span></span></span></span><span style="font-famil
 y:"Aptos"\,sans-serif"><span style="color:black">M
 atthew Couper\, Borough Engagement Officer\, GLA -
  Creative Health Strategy)</span></span></span></l
 i>\n </ul>\n \n <ul>\n 	<li style="margin-left:8px
 \;"><span style="font-size:12pt\;"><span style="ba
 ckground:#FFFFFF\;"><span><span style="font-family
 :Aptos\, sans-serif\;"><span style="color:#000000\
 ;">Microgrants application process</span></span></
 span></span></span></li>\n </ul>\n \n <ul>\n 	<li 
 style="margin-left:8px\;"><span style="font-size:1
 2pt\;"><span style="background:#FFFFFF\;"><span><s
 pan style="font-family:Aptos\, sans-serif\;"><span
  style="color:#000000\;">Inclusivity best practice
 : interactive session</span></span></span></span><
 /span></li>\n </ul>\n \n <ul>\n 	<li style="margin
 -left:8px\;"><span style="font-size:12pt\;"><span 
 style="background:#FFFFFF\;"><span><span style="fo
 nt-family:Aptos\, sans-serif\;"><span style="color
 :#000000\;">Badge cafe and intentional networking<
 /span></span></span></span></span></li>\n </ul>\n 
 \n <ul>\n 	<li style="margin-left:8px\;"><span sty
 le="font-size:12pt\;"><span style="background:#FFF
 FFF\;"><span><span style="font-family:Aptos\, sans
 -serif\;"><span style="color:#000000\;">Feedback</
 span></span></span></span></span></li>\n 	<li styl
 e="margin-left:8px\;"><span style="font-size:12pt\
 ;"><span style="background:#FFFFFF\;"><span style=
 "color:#000000\;"><span><span><span style="font-fa
 mily:Aptos\, sans-serif\;">Close</span></span></sp
 an></span></span></span></li>\n </ul>\n \n <p> </p
 >\n \n <p><span style="font-size:12pt\;"><span sty
 le="background:#FFFFFF\;"><span style="font-family
 :Aptos\, sans-serif\;"><span style="color:#000000\
 ;">*The event space is limited to 50 people so we 
 advise one person per organisation or team please.
  If you are unable to attend after booking your sp
 ace please do let us know to allow others to atten
 d from the waiting list.</span></span></span></spa
 n></p>\n \n <p><span style="font-size:12pt\;"><spa
 n style="background:#FFFFFF\;"><span style="font-f
 amily:Aptos\, sans-serif\;"><span style="color:#00
 0000\;">Refreshments will be available - please le
 t us know any dietary or access requirements.</spa
 n></span></span></span></p>\n \n <p> </p>\n \n <p>
  </p></body></html>
DESCRIPTION:Westminster Culture Network Event\n \n \n \n Creat
 ive health & Inclusion: micro-grants information s
 ession\n \n \n \n 2-4 pm\, 6 May\n \n \n \n Soho P
 oly\, 16 Riding House St\, London W1W 7DT\n \n \n 
 \n  \n \n \n \n Please come along to meet peers in
  the health and creative sectors to find out more 
 how arts and creativity can address the social det
 erminants of health. The event will take place at 
 Soho Poly\, an inclusive community theatre\, based
  at University of Westminster.\n \n \n \n  \n \n \
 n \n The event will be facilitated by Shelley Reyn
 olds\, Head of Health and Organisational Developme
 nt at One Westminster\, in partnership with Westmi
 nster Culture Network.\n \n \n \n  \n \n \n \n We 
 will be sharing details on how to apply for One We
 stminster’s new round of Creative Health micro-gra
 nts\, funded by Westminster Council as part of its
  Cultural Strategy (http://www.westminster.gov.uk/
 cultural-strategy) delivery.\n \n \n \n  \n \n \n 
 \n Agenda\n \n \n \n \n 	Welcome and introductions
 \n \n \n \n 	Context: Creative wellbeing and socia
 l determinants of health (Matthew Couper\, Borough
  Engagement Officer\, GLA - Creative Health Strate
 gy)\n \n \n \n 	Microgrants application process\n 
 \n \n \n 	Inclusivity best practice: interactive s
 ession\n \n \n \n 	Badge cafe and intentional netw
 orking\n \n \n \n 	Feedback\n 	Close\n \n \n  \n \
 n \n \n *The event space is limited to 50 people s
 o we advise one person per organisation or team pl
 ease. If you are unable to attend after booking yo
 ur space please do let us know to allow others to 
 attend from the waiting list.\n \n \n \n Refreshme
 nts will be available - please let us know any die
 tary or access requirements.\n \n \n \n  \n \n \n 
 \n  \n \n 
CATEGORIES:Network Meeting
CALSCALE:GREGORIAN
DTSTAMP;TZID=Europe/London:20260506T140000
DTSTART;TZID=Europe/London:20260506T140000
DTEND;TZID=Europe/London:20260506T160000
LOCATION:Soho Poly\n 16 Riding House Street\n London\, W1W 
 7DT\n United Kingdom\n 
URL:https://www.onewestminster.org.uk/civicrm/event/info?reset=1&id=1674
END:VEVENT
END:VCALENDAR
